BEGIN:VCALENDAR
VERSION:2.0
PRODID:http://pfarrei-nordhalben.de
BEGIN:VEVENT
UID:d0fe26e0-36ba-11f1-a8bf-0242ac11002b-1777028432386-de
DTSTAMP:20260412T215902Z
DTSTART:20260424T110032Z
SUMMARY;LANGUAGE=de:Tag der ewigen Anbetung in Pressig
END:VEVENT
END:VCALENDAR
