BEGIN:VCALENDAR
VERSION:2.0
PRODID:http://pfarrei-nordhalben.de
BEGIN:VEVENT
UID:d1c81c37-3a3b-11f1-a8bf-0242ac11002b-1778832000000-de
DTSTAMP:20260417T090002Z
DTSTART:20260515T080000Z
DTEND:20260515T100000Z
SUMMARY;LANGUAGE=de:Stille Anbetung bis 12:00 Uhr
END:VEVENT
END:VCALENDAR
