BEGIN:VCALENDAR
VERSION:2.0
PRODID:http://pfarrei-nordhalben.de
BEGIN:VEVENT
UID:d24aa149-3ef2-11f1-a8bf-0242ac11002b-1779382800000-de
DTSTAMP:20260423T090005Z
DTSTART:20260521T170000Z
DTEND:20260521T180000Z
SUMMARY;LANGUAGE=de:Gebetskreis - Jugend 2000
END:VEVENT
END:VCALENDAR
