BEGIN:VCALENDAR
VERSION:2.0
PRODID:http://pfarrei-nordhalben.de
BEGIN:VEVENT
UID:d2c5eeae-36ba-11f1-a8bf-0242ac11002b-1777028432858-de
DTSTAMP:20260412T215905Z
DTSTART:20260424T110032Z
SUMMARY;LANGUAGE=de:Tag der ewigen Anbetung in Teuschnitz
END:VEVENT
END:VCALENDAR
