BEGIN:VCALENDAR
VERSION:2.0
PRODID:http://pfarrei-nordhalben.de
BEGIN:VEVENT
UID:d4d5b934-3ef2-11f1-a8bf-0242ac11002b-1779371100000-de
DTSTAMP:20260423T090009Z
DTSTART:20260521T134500Z
DTEND:20260521T144500Z
SUMMARY;LANGUAGE=de:Eucharistiefeier im Albrecht-Dürer-Heim
END:VEVENT
END:VCALENDAR
