BEGIN:VCALENDAR
VERSION:2.0
PRODID:http://pfarrei-nordhalben.de
BEGIN:VEVENT
UID:d5c34897-30cd-11f1-a8bf-0242ac11002b-1777820400000-de
DTSTAMP:20260405T090003Z
DTSTART:20260503T150000Z
DTEND:20260503T160000Z
SUMMARY;LANGUAGE=de:Eucharistiefeier in der außerordentlichen Form
END:VEVENT
END:VCALENDAR
