BEGIN:VCALENDAR
VERSION:2.0
PRODID:http://pfarrei-nordhalben.de
BEGIN:VEVENT
UID:d785e062-30cd-11f1-a8bf-0242ac11002b-1777827600000-de
DTSTAMP:20260405T090006Z
DTSTART:20260503T170000Z
DTEND:20260503T180000Z
SUMMARY;LANGUAGE=de:Eucharistiefeier
DESCRIPTION;LANGUAGE=de:Uni-GD (Kollekte für den KHG)
END:VEVENT
END:VCALENDAR
