BEGIN:VCALENDAR
VERSION:2.0
PRODID:http://pfarrei-nordhalben.de
BEGIN:VEVENT
UID:d924db91-2c16-11f1-a15b-0242ac11002b-1777269600000-de
DTSTAMP:20260330T090006Z
DTSTART:20260427T060000Z
DTEND:20260427T070000Z
SUMMARY;LANGUAGE=de:Eucharistiefeier (Domkapitel)
END:VEVENT
END:VCALENDAR
