BEGIN:VCALENDAR
VERSION:2.0
PRODID:http://pfarrei-nordhalben.de
BEGIN:VEVENT
UID:d92ea4e9-3a3b-11f1-a8bf-0242ac11002b-1778832000000-de
DTSTAMP:20260417T090014Z
DTSTART:20260515T080000Z
DTEND:20260515T090000Z
SUMMARY;LANGUAGE=de:Heilige Messe zur Firmung
DESCRIPTION;LANGUAGE=de:Ludwig Schick
END:VEVENT
END:VCALENDAR
