BEGIN:VCALENDAR
VERSION:2.0
PRODID:http://pfarrei-nordhalben.de
BEGIN:VEVENT
UID:d93b18a2-3584-11f1-a8bf-0242ac11002b-1778302800000-de
DTSTAMP:20260411T090012Z
DTSTART:20260509T050000Z
DTEND:20260509T060000Z
SUMMARY;LANGUAGE=de:Eucharistiefeier
END:VEVENT
END:VCALENDAR
