BEGIN:VCALENDAR
VERSION:2.0
PRODID:http://pfarrei-nordhalben.de
BEGIN:VEVENT
UID:daefcdbd-3584-11f1-a8bf-0242ac11002b-1778313600000-de
DTSTAMP:20260411T090015Z
DTSTART:20260509T080000Z
DTEND:20260509T110000Z
SUMMARY;LANGUAGE=de:Zeit der Versöhnung für die Firmlinge
DESCRIPTION;LANGUAGE=de:Friedmann / Thoma / Sam / Stehl
END:VEVENT
END:VCALENDAR
