BEGIN:VCALENDAR
VERSION:2.0
PRODID:http://pfarrei-nordhalben.de
BEGIN:VEVENT
UID:db9a3079-30cd-11f1-a8bf-0242ac11002b-1777788000000-de
DTSTAMP:20260405T090013Z
DTSTART:20260503T060000Z
DTEND:20260503T070000Z
SUMMARY;LANGUAGE=de:Eucharistiefeier
END:VEVENT
END:VCALENDAR
