BEGIN:VCALENDAR
VERSION:2.0
PRODID:http://pfarrei-nordhalben.de
BEGIN:VEVENT
UID:de0be977-3a3b-11f1-a8bf-0242ac11002b-1778850000000-de
DTSTAMP:20260417T090022Z
DTSTART:20260515T130000Z
DTEND:20260515T133000Z
SUMMARY;LANGUAGE=de:Barmherzigkeitsrosenkranz
END:VEVENT
END:VCALENDAR
