BEGIN:VCALENDAR
VERSION:2.0
PRODID:http://pfarrei-nordhalben.de
BEGIN:VEVENT
UID:df9249cc-3ef2-11f1-a8bf-0242ac11002b-1779379200000-de
DTSTAMP:20260423T090027Z
DTSTART:20260521T160000Z
DTEND:20260521T170000Z
SUMMARY;LANGUAGE=de:kath. Wort-Gottes-Feier
DESCRIPTION;LANGUAGE=de:in der Klinikkapelle
END:VEVENT
END:VCALENDAR
