BEGIN:VCALENDAR
VERSION:2.0
PRODID:http://pfarrei-nordhalben.de
BEGIN:VEVENT
UID:e00624bd-3584-11f1-a8bf-0242ac11002b-1778342400000-de
DTSTAMP:20260411T090023Z
DTSTART:20260509T160000Z
DTEND:20260509T170000Z
SUMMARY;LANGUAGE=de:Eucharistiefeier
DESCRIPTION;LANGUAGE=de:St. Florian mit der FFW Rattelsdorf
END:VEVENT
END:VCALENDAR
