BEGIN:VCALENDAR
VERSION:2.0
PRODID:http://pfarrei-nordhalben.de
BEGIN:VEVENT
UID:e02b2a0c-30cd-11f1-a8bf-0242ac11002b-1777789800000-de
DTSTAMP:20260405T090021Z
DTSTART:20260503T063000Z
DTEND:20260503T070000Z
SUMMARY;LANGUAGE=de:Treffen der Jubilare im Pfarrsaal und feierlicher Einzug
END:VEVENT
END:VCALENDAR
