BEGIN:VCALENDAR
VERSION:2.0
PRODID:http://pfarrei-nordhalben.de
BEGIN:VEVENT
UID:e19eb77b-30cd-11f1-a8bf-0242ac11002b-1777795200000-de
DTSTAMP:20260405T090023Z
DTSTART:20260503T080000Z
DTEND:20260503T090000Z
SUMMARY;LANGUAGE=de:Hl. Messe mit Feier der Erstkommunion
DESCRIPTION;LANGUAGE=de:*für die Erstkommunionkinder u. deren leb. u. verst. Ang.
END:VEVENT
END:VCALENDAR
