BEGIN:VCALENDAR
VERSION:2.0
PRODID:http://pfarrei-nordhalben.de
BEGIN:VEVENT
UID:ea999e29-2a8c-11f1-a15b-0242ac11002b-1777093200000-de
DTSTAMP:20260328T100014Z
DTSTART:20260425T050000Z
DTEND:20260425T060000Z
SUMMARY;LANGUAGE=de:Eucharistiefeier
END:VEVENT
END:VCALENDAR
