BEGIN:VCALENDAR
VERSION:2.0
PRODID:http://pfarrei-nordhalben.de
BEGIN:VEVENT
UID:f089d99d-2a8c-11f1-a15b-0242ac11002b-1777132800000-de
DTSTAMP:20260328T100024Z
DTSTART:20260425T160000Z
DTEND:20260425T173000Z
SUMMARY;LANGUAGE=de:SKV Gedenkgottesdienst zum Georgentag
END:VEVENT
END:VCALENDAR
