BEGIN:VCALENDAR
VERSION:2.0
PRODID:http://pfarrei-nordhalben.de
BEGIN:VEVENT
UID:f1eec0da-2a8c-11f1-a15b-0242ac11002b-1777132800000-de
DTSTAMP:20260328T100026Z
DTSTART:20260425T160000Z
DTEND:20260425T170000Z
SUMMARY;LANGUAGE=de:Eucharistiefeier
END:VEVENT
END:VCALENDAR
