BEGIN:VCALENDAR
VERSION:2.0
PRODID:http://pfarrei-nordhalben.de
BEGIN:VEVENT
UID:fd75bf69-364d-11f1-a8bf-0242ac11002b-1778398200000-de
DTSTAMP:20260412T090001Z
DTSTART:20260510T073000Z
DTEND:20260510T083000Z
SUMMARY;LANGUAGE=de:Pontifikalgottesdienst mit Herrn Erzbischof em. Dr. Ludwig Schick
DESCRIPTION;LANGUAGE=de:zum Papstsonntag
END:VEVENT
END:VCALENDAR
