BEGIN:VCALENDAR
VERSION:2.0
PRODID:http://pfarrei-nordhalben.de
BEGIN:VEVENT
UID:fde87e7e-364d-11f1-a8bf-0242ac11002b-1778391000000-de
DTSTAMP:20260412T090002Z
DTSTART:20260510T053000Z
DTEND:20260510T063000Z
SUMMARY;LANGUAGE=de:Eucharistiefeier
END:VEVENT
END:VCALENDAR
