BEGIN:VCALENDAR
VERSION:2.0
PRODID:http://pfarrei-nordhalben.de
BEGIN:VEVENT
UID:ff10c333-3196-11f1-a8bf-0242ac11002b-1777874400000-de
DTSTAMP:20260406T090001Z
DTSTART:20260504T060000Z
DTEND:20260504T070000Z
SUMMARY;LANGUAGE=de:Eucharistiefeier (Domkapitel)
END:VEVENT
END:VCALENDAR
